Workbook

Sheet RELACIÓN DE TRÁMITES
B3: No. | C3: NOMBRE DEL TRÁMITE / OPA / REGULACIÓN | D3: MOTIVO DE RACIONALIZACIÓN | E3: TIPO DE ACCIÓN | F3: TIPO DE RACIONALIZA CIÓN | G3: DESCRIPCIÓN DE LA MEJORA O PROYECTO | H3: META | I3: OBSERVACIONES
B7: 1 | C7: Préstamo bibliotecario | D7: Iniciativa de la institución | E7: Administrativas | F7: Reducción de actividades en los procedimientos internos | G7: Documentación y optimización del proceso | H7: Trámite publicado en portales
B11: 2 | C11: Reintegros, transferencias, homologaciones, validaciones | D11: Iniciativa de la institución | E11: Administrativas | F11: Reducción de actividades en los procedimientos internos | G11: Documentación y optimización del proceso | H11: Trámite publicado en portales
B15: 3 | C15: Préstamo audiovisuales | D15: Iniciativa de la institución | E15: Administrativas | F15: Reducción de actividades en los procedimientos internos | G15: Documentación y optimización del proceso | H15: Trámite publicado en portales
B19: 4 | C19: Cancelación de semestre | D19: Iniciativa de la institución | E19: Administrativas | F19: Reducción de actividades en los procedimientos internos | G19: Documentación y optimización del proceso | H19: Trámite publicado en portales
B23: 5 | C23: Aplazamiento de semestre | D23: Iniciativa de la institución | E23: Administrativas | F23: Reducción de actividades en los procedimientos internos | G23: Documentación y optimización del proceso | H23: Trámite publicado en portales
B27: 6 | C27: Duplicados de diplomas y actas de grado | D27: Iniciativa de la institución | E27: Administrativas | F27: Reducción de actividades en los procedimientos internos | G27: Documentación y optimización del proceso | H27: Trámite publicado en portales
B31: 7 | C31: Grado de pregrado y posgrado | D31: Iniciativa de la institución | F31: Reducción de actividades en los procedimientos internos | G31: Documentación y optimización del proceso | H31: Trámite publicado en portales
E32: Administrativas
B35: 8 | C35: Cursos intersemestrales | F35: Reducción de actividades en los procedimientos
F36: internos | G36: Documentación y optimización del proceso | H36: Trámite publicado en portales
D38: Iniciativa de la institución | E38: Administrativas
B39: 9 | C39: Matrícula cursos de extensión | F39: Reducción de actividades en los procedimientos internos
G40: Documentación y optimización del proceso | H40: Trámite publicado en portales
D42: Iniciativa de la institución | E42: Administrativas

Sheet Seguimiento PTEP Trim III
B2: PROGRAMA DE TRANSPARENCIA Y ÉTICA DE LO PÚBLICA 2026
B5: Estructura PTEP | D5: Actividades | F5: Meta o producto | G5: Responsable | H5: Fecha | I5: Avance | J5: % de avance trimestre | K5: % de avance vigencia | L5: Link de evidencia | M5: Estado
B6: 1. Administración de riesgos | C6: 1.1. Gestión de riesgos para la integridad pública, y 1.2 Gestión de riesgos de LA/FT/FP | D6: 1.1.1 | E6: Actualizar la Politica de Administración de Riesgos, integrando riesgos de Integridad: conflictos de intereses, soborno, corrupción y fraude. | F6: Politica de Administración de Riesgos | G6: Oficina Asesora de Planeación/ Calidad - MIPG | H6: Cuarto trimestre | M6: Sin iniciar
D7: 1.1.2 | E7: Presentar ante el Comité Institucional de Gestión y Desempeño la actualización de la politica de Administración de Riesgos. | F7: Acta del CIGD | G7: Oficina Asesora de Planeación/ Calidad - MIPG | H7: Cuarto trimestre | M7: Sin iniciar
D8: 1.1.3 | E8: Socializar la Politica de Administración de Riesgos de integridad (conflictos de intereses, soborno, corrupción y fraude). | F8: Listados de Asistencia/ Piezas Graficas de Comunicación | G8: Oficina Asesora de Planeación/ Calidad - MIPG | H8: Cuarto trimestre | M8: Sin iniciar
D9: 1.1.4 | E9: Actualizar el Procedimiento de Administración de Riesgos en cuanto a la materialización de los riesgos y la metodología de riesgos de integridad (conflictos de intereses, soborno, corrupción y fraude). | F9: Procedimiento de Administración de Riesgos Actualizado | G9: Oficina Asesora de Planeación/ Calidad - MIPG | H9: Cuarto trimestre | I9: Actividad realizada en el tercer trimestre 2026 | J9: 1 | K9: 1 | L9: https://www.etitc.edu.co/archives/calidad/GSI-CA-PC-06.pdf | M9: cumplida
D10: 1.1.5 | E10: Realizar el monitoreo y seguimiento al mapa de riesgos | F10: Mapa de riesgos con el monitoreo y seguimiento realizado | G10: Oficina Asesora de Planeación/ Calidad - MIPG | H10: Cuatrimestralmente | I10: Se solicitó a la primera linea de defensa el monitoreo de riesgos del primer y segundo cuatrimestre (enero a agosto 2026). Se encuentra pendiente el seguimiento de parte de la segunda linea de defensa. | J10: 0.5 | K10: 0.5 | L10: 1. https://itceduco-my.sharepoint.com/:f:/g/personal/mipg_itc_edu_co/IgDbA3TAUotlTa8G8J_ORVJcAY9OSRDQ4zTF9CPYT2uEqEs?e=krsMjB 2. https://itceduco-my.sharepoint.com/:f:/g/personal/calidad_itc_edu_co/IgCo8BW6V2VeRI9cuF1uD43bASMWsbglObF0gF5Ck9N49TY | M10: en ejecución
C11: 1.3. Canales de denuncia | D11: 1.3.1 | E11: Generar un documento para la presentación y trámite de denuncias por posibles actos de corrupción, su tratamiento y discrecionalidad. | F11: (1) Documento realizado | G11: Gestión de Servicio al Ciudadano (OAP) - Oficina Jurídica - Control Interno Disciplinario | H11: Segundo trimestre | I11: Se elaboró documento denominado “Guía para la presentación y trámite de denuncias por posibles actos de corrupción”, el cual fue aprobada por el área de Calidad y publicado en el proceso Gestión Servicio al Ciudadano bajo el código GSC-GU-01. | J11: 1 | K11: 1 | L11: https://itceduco-my.sharepoint.com/:f:/g/personal/mipg_itc_edu_co/IgBCtZ7dIQ17TaDwblPUhSDWAdzHkCWJCzFpJkYmX6xGcc0?e=aCfPnc | M11: cumplida
D12: 1.3.2 | E12: Implementar ejercicios de socialización y sensibilización orientados a fortalecer la adecuada radicación de PQRSD y el uso correcto de los canales institucionales para la denuncia de posibles actos de corrupción. | F12: (1) ejercicio de socialización | G12: Gestión de Servicio al Ciudadano (OAP) - Oficina Jurídica | H12: Tercer trimestre | I12: Se elaboró una pieza comunicativa en articulación con el área de Comunicaciones y se envió un correo masivo a los grupos de valor, socializando los canales institucionales de atención y cómo presentar una PQRSD. Asimismo, el 7 de octubre de 2026 se realizó por team la capacitación “Transparencia y canales de denuncia”, dirigida a funcionarios y contratistas, con el fin de fortalecer el conocimiento y uso adecuado de los canales de atención y denuncia de posibles actos de corrupción. Evidencias: Correo masivo con Pieza comunicativa enviado a los grupos de valor. Presentación, grabación y lista de asistencia de la capacitación. | J12: 1 | K12: 1 | L12: https://itceduco-my.sharepoint.com/:f:/g/personal/mipg_itc_edu_co/IgA4fQsiPM5tRYEja9x5BxpZASn6kMKMlF-ULXuxGA21hTY?e=guSqbq | M12: cumplida
D13: 1.3.3 | E13: Publicar informes trimestrales de PQRSD y de solicitudes de información | F13: Informes Trimestrales de PQRS | G13: Gestión de Servicio al Ciudadano (OAP) | H13: Abril Julio Octubre Enero 2027 | I13: Se elaboraron y publicaron en el portal web institucional los informes de PQRSD y correspondientes al segundo y tercer trimestre, disponibles en la ruta: Atención y Servicios a la Ciudadanía → Informes de Atención al Ciudadano. para un total del 75% en la ejecución de esta actividad | J13: 1 | K13: 0.75 | L13: https://www.etitc.edu.co/es/page/atencionciudadano&informes | M13: en ejecución
D14: 1.3.4 | E14: Medir la percepción de los ciudadanos respecto a la calidad y acceso de la oferta institucional y la atención prestada y generar informe trimestral. | F14: Informe de evaluación del servicio | G14: Oficina Asesora de Planeación (Calidad) | H14: Abril Julio Octubre Enero 2027 | I14: Se realizó la medición de percepción de los ciudadanos y los resultados se consolidan en el informe del tercer Trimestre de los Resultados de la Evaluación de los Servicios prestado por la ETIC. el Informe esta alineado al cumplimiento de las actividades establecidas en el Plan Sectorial – Modelo de Voz Ciudadana ETITC | J14: 1 | K14: 0.75 | L14: https://itceduco-my.sharepoint.com/:f:/g/personal/mipg_itc_edu_co/IgDTHOSgXtSMTorzX9qLiQamAb9gZUm1a-OILS_Ju07cfuE?e=ToKkCg | M14: en ejecución
B15: 2. Redes y articulación | C15: 2.1. Redes internas | D15: 2.1.1 | E15: Integrar el PTEP en un instrumento (Sharepoint) que sirva como red de seguimiento permanente a los compromisos adquiridos en su formulación. | F15: Instrumento en Línea | G15: Oficina Asesora de Planeación (MIPG) | H15: Trimestralmente | I15: Se cuenta con la Matriz de seguimiento PTEP 2026, a través de la cual se realiza seguimiento trimestral a las actividades planificadas para la vigencia 2026. | J15: 1 | K15: 0.75 | L15: https://www.etitc.edu.co/es/page/atencionciudadano&paac | M15: en ejecución
D16: 2.1.2 | E16: Llevar los avances del PTEP ante el CIGD como instancia de seguimiento en la que convergen los responsables de su materialización. | F16: Acta del CIGD | G16: Oficina Asesora de Planeación (MIPG) | H16: Trimestralmente | I16: El seguimiento del primer trimestre de 2026, se presentó al CIGD del mes de abril de 2026. Los ajustes solicitados al PTEP para el segundo trimestre se presentaron para aprobación del CIGD el 09 de julio de 2026, se realizó seguimiento y se presentó al CIGD el 24 de agosto de 2026. Los ajustes solicitados al PTEP para el tercer trimestre se presentaron para aprobación del CIGD el 07 de octubre de 2026. El seguimiento se presentará al CIGD en el mes de noviembre. | J16: 1 | K16: 0.75 | L16: Actas CIGD | M16: en ejecución
C17: 2.2. Redes externas | D17: 2.2.1 | E17: Elaborar un mapa de redes y articulación, donde se enliste el rol, responsabilidades, representante o delegado, tareas y planes de trabajo de la ETITC en las redes externas (Transparencia y Ética Púbica) | F17: 1. Documento | G17: Oficina Asesora de Planeación (MIPG), Talento humano | H17: Cuarto trimestre | M17: Sin iniciar
B18: 3. Modelo de Estado Abierto | C18: 3.1. Acceso a la información pública y transparencia | D18: 3.1.1 | E18: Publicar de manera periódica el comportamiento de los indicadores del Plan de Desarrollo Institucional y el Plan de Acción Institucional en el portal de datos y estadísticas de la ETITC. | F18: Seguimiento Publicado | G18: Oficina Asesora de Planeación (Plan de acción) | H18: Trimestralmente | I18: La Oficina Asesora de Planeación realizó y publicó de manera periódica el seguimiento al comportamiento de los indicadores del Plan de Acción Anual 2026, articulado con el Plan de Desarrollo Institucional 2025-2032, así: Primer trimestre (1 de enero al 31 de marzo de 2026): se elaboró y publicó en el portal web institucional el Informe de Seguimiento al Plan de Acción Anual 2026, que reportó 182 productos exigibles en el periodo, de los cuales 13 (7,14 %) se cerraron con evidencia, y dejó establecidas las alertas de formulación del plan. Segundo trimestre (1 de abril al 30 de junio de 2026): se elaboró y publicó en el portal web institucional el informe correspondiente, con 476 productos exigibles y 9 cerrados con evidencia, para un cumplimiento del cronograma del 21,74 % y un cumplimiento de línea base del 6,26 % al 30 de junio de 2026. Tercer trimestre (1 de julio al 30 de septiembre de 2026): se elaboró el Informe de Seguimiento al Plan de Acción Anual 2026 - Informe de cierre, del 7 de octubre de 2026, con corte de información al 30 de septiembre. El Plan de Acción cerró el trimestre con un cumplimiento del cronograma del 65,34 % (43,60 puntos por encima del 21,74 % registrado al 30 de junio) y un cumplimiento de línea base del 12,63 %, con 239 productos ejecutados con evidencia y 4 de 6 ejes estratégicos en la meta institucional. El documento ya fue remitido al área competente para su cargue en el portal web institucional y se encuentra en trámite de publicación. Con corte a 30 de septiembre de 2026 se completan tres (3) de los cuatro (4) seguimientos trimestrales programados para la vigencia, equivalentes al 75 % de avance. | J18: 1 | K18: 0.75 | L18: Primer trimestre: https://www.etitc.edu.co/archives/seguimientopamar26.pdf Segundo Trimestre: https://www.etitc.edu.co/archives/seguimientopajun26.pdf Tercer Trimestre: https://www.etitc.edu.co/es/page/leytransparencia | M18: en ejecución
D19: 3.1.2 | E19: Publicar informes de seguimiento a los proyectos de inversión institucionales | F19: Informes de seguimiento publicados en la página web institucional | G19: Oficina Asesora de Planeación (Proyectos) | H19: Trimestralmente | I19: Durante el tercer trimestre de 2026 se realizó el seguimiento a la ejecución de los proyectos de inversión de la entidad, consolidando la información correspondiente al periodo y efectuando su publicación en la página web institucional para consulta de las partes interesadas. | J19: 1 | K19: 0.75 | L19: https://www.etitc.edu.co/archives/seguimientopisep2026.xlsx | M19: en ejecución
D20: 3.1.3 | E20: Publicar la ejecución del presupuesto de la institución | F20: Informes de ejecución publicados en la página webinstitucional | G20: Área de presupuesto | H20: Mensualmente | I20: Se encuentra publicadas las ejecuciones presupuestales con corte a septiembre de 2026 | J20: 1 | K20: 0.75 | L20: https://www.etitc.edu.co/es/page/leytransparencia https://www.etitc.edu.co/archives/ejecucionsep26.pdf | M20: en ejecución
C21: 3.2. Integridad pública y cultura de la legalidad | D21: 3.2.1 | E21: Mantener actualizada la versión del código de integridad, conflicto de interes y realizar los ajustes en caso de cambios en las directrices por parte de la Función Pública. | F21: Documento actualizado | G21: Oficina de Talento Humano | H21: Durante la vigencia | I21: Se realizó actualización de la guía Identificación, declaración, manejo y gestión del conflicto de interés en la ETITC. La publicación en elportal web está en trámite. El Código de Integridad está en proceso de actualización y publicación en el portal web institucional. | J21: 1 | K21: 1 | L21: https://itceduco-my.sharepoint.com/:b:/g/personal/apoyotalentohumano_itc_edu_co/IQCcVulQzPRFTpWs8R1tWlrZAUY6nbo3ywnJvE-v2OcP9do?e=fXWyqc | M21: cumplida
D22: 3.2.2 | E22: Realizar el autodiagnóstico de integridad, como estrategia de mejormiento continuo | F22: Autodiagnótico realizado | G22: Oficina de Talento Humano | H22: Primer trimestre | I22: Se realizó a principio de la vigencia como línea base para estrucutrar el programa de Integridad | J22: 1 | K22: 1 | L22: https://itceduco-my.sharepoint.com/:x:/g/personal/gestionculturaorganizacional_itc_edu_co/IQBg392Ogl9mRKYcbn3-hCJ-ARVibjAHpUHzzp0h15QUJqM?e=SLxlzB | M22: cumplida
D23: 3.2.3 | E23: Definir un plan de acción del código de integridad y conflicto de interés de la ETITC (LEY 2016 DE 2020) | F23: Un plan de acción definido | G23: Oficina de Talento Humano | H23: Durante la vigencia | I23: Como parte del diseño del programa de Integridad 360° , se definió el plan de acción anual Se adjunta el informe de ejecución. | J23: 1 | K23: 1 | L23: https://itceduco-my.sharepoint.com/:b:/g/personal/apoyotalentohumano_itc_edu_co/IQA8dQmrGzdQQqVXv3S24bxGAc2yA5vkomUmEqV48RvhmFo?e=pjdBvr | M23: cumplida
D24: 3.2.4 | E24: Integrar en las jornadas de inducción el código de integridad, resaltando su importancia para el fortalecimiento de una cultura basada en el adecuado comportamiento y el buen relacionamiento. | F24: Soportes de la inducción | G24: Oficina de Talento Humano | H24: Durante la vigencia | I24: En el proceso de inducción se incluye socializar el código de integridad, el cual también está contenido en el módulo de talento humano del curso virtual que realizan todos los servidores nuevos al ingresar a la ETITC | J24: 1 | K24: 1 | L24: https://itceduco-my.sharepoint.com/:i:/g/personal/gestionculturaorganizacional_itc_edu_co/IQAGCW9I1egMQ5kqmclybqXUAW69gy8manlLLGxYJ5DRp90?e=tdU8o5 | M24: cumplida
D25: 3.2.5 | E25: Realizar campañas de difusión al interior de la ETITC sobre el PTEP y su respectivo Plan de Ejecución y Seguimiento. | F25: 2 Campañas realizadas | G25: Oficina Asesora de Planeación (MIPG) | H25: Durante la vigencia | I25: Se solicitó a la Oficina de Comunicación la campaña de difusión "Conoce nuestro Programa de Transparencia y Ética Pública - PTEP ETITC" | J25: 1 | K25: 0.5 | L25: 3. Modelo de estado abierto | M25: en ejecución
C26: 3.3. Diálogo y corresponsabilidad | D26: 3.3.1 | E26: Consolidar y publicar el informe de Gestión Anual 2025 | F26: Informe consolidado y publicado | G26: Oficina Asesora de Planeación (Plan de acción) | H26: Primer trimestre | I26: Se realizó la consolidación y publicación del Informe de Gestión Anual 2025 de la ETITC. | J26: 1 | K26: 1 | L26: https://www.etitc.edu.co/es/page/rendicion-cuentas https://www.etitc.edu.co/archives/gestion25.pdf | M26: cumplida
D27: 3.3.2 | E27: Definir y divulgar adecuadamente los mecanismos de participación de los grupos de valor en la rendición de cuentas | F27: Canales definidos | G27: Oficina Asesora de Planeación (Servicio al ciudadano) / Gestión de Comunicaciones | H27: Segundo trimestre | I27: Se definieron y divulgaron los mecanismos de participación de los grupos de valor para la Audiencia Pública de Rendición de Cuentas. Para ello, se activó el correo institucional rendiciondecuentas@itc.edu.co, se implementó el formulario de inscripción y recepción de preguntas en Microsoft Forms y se diseñaron piezas comunicativas con código QR y el botón "Inscríbete y Participa", que direccionaban al formulario. Estas fueron difundidas mediante correos masivos, pantallas institucionales y redes sociales de la ETITC. Asimismo, se elaboraron videos tipo reel con un llamado a la participación y un modelo de invitación personalizada que fue enviado por los directivos a sus grupos de valor. Finalmente, se aplicó una encuesta de satisfacción como mecanismo de retroalimentación para evaluar el ejercicio de rendición de cuentas. | J27: 1 | K27: 1 | L27: Videos tipo reel: https://www.facebook.com/reel/1396192571798699 https://www.facebook.com/photo/?fbid=1389898153176175&set=a.642809741218357 https://www.facebook.com/reel/1485186476318548 EVIDENCIAS: https://itceduco-my.sharepoint.com/:f:/g/personal/gestionculturaorganizacional_itc_edu_co/IgAwIeJrT-GGTashk-b93YQwATVsBQpoY5fsVJ-N8qphXrU?e=btsCRw | M27: cumplida
D28: 3.3.3 | E28: Desarrollar la Audiencia pública de Rendición de Cuentas utilizando los canales de comunicación disponibles por la ETITC | F28: Un Informe | G28: Oficina Asesora de Planeación (Servicio al ciudadano) / Gestión de Comunicaciones | H28: Segundo trimestre | I28: Se desarrolló la Audiencia Pública de Rendición de Cuentas de la vigencia 2025 el 10 de abril de 2026, utilizando los canales de comunicación institucionales de la ETITC. La jornada contó con 162 asistentes presenciales en la sesión de la tarde y fue transmitida a través de Facebook Live, alcanzando entre 2.800 y 2.899 visualizaciones y 43 interacciones, así como por YouTube, con 232 a 239 visualizaciones, ampliando el alcance y la participación de los grupos de valor. | J28: 1 | K28: 1 | L28: Registros: https://www.youtube.com/watch?v=0_QmhZFP0M0&t=153s https://www.facebook.com/reel/1528979491899713 https://etitc.edu.co/es/page/rendicion-cuentas | M28: cumplida
D29: 3.3.4 | E29: Realizar el informe de la Audiencia Pública de Rendición de Cuentas de la Vigencia, con las respectivas etapas ejecutadas y respuestas a las inquietudes de los participantes. | F29: Un Informe | G29: Oficina Asesora de Planeación (Servicio al ciudadano) | H29: Segundo trimestre | I29: Se elaboró el Informe de la Audiencia Pública de Rendición de Cuentas de la vigencia 2025, el cual consolida las etapas de preparación, desarrollo y seguimiento del ejercicio, los resultados de la jornada, la participación de los grupos de valor, las preguntas recibidas antes y durante la audiencia, las respuestas brindadas por la Entidad y los resultados de la encuesta de satisfacción, conforme a los lineamientos institucionales. | J29: 1 | K29: 1 | L29: https://www.etitc.edu.co/archives/restrategiarendicionc25.pdf | M29: cumplida
B30: 4. Inciativas Adicionales | C30: 4.1. Racionaliación de Trámites | D30: 4.1.1 | E30: Definir y gestionar la estrategia de racionalización de trámites de la vigencia 2026 | F30: Estrategia definida y gestionada | G30: Oficina Asesora de Planeación (Servicio al ciudadano) | H30: Cuarto trimestre | M30: Sin iniciar
D31: 4.1.2 | E31: Verificar la implementación de la Meta de Racionalización de la Vigencia 2026 | F31: Informes de seguimiento publicados en la página web institucional | G31: Oficina Asesora de Planeación (Servicio al ciudadano) | H31: Cuarto trimestre | M31: Sin iniciar
C32: 4.2. Participación Ciudadana | D32: 4.2.1 | E32: Actualizar la caracterización de los grupos de valor de la ETITC | F32: Informe de caracterización | G32: Oficina Asesora de Planeación (Servicio al ciudadano) | H32: Cuarto trimestre | M32: Sin iniciar
D33: 4.2.2 | E33: Diseñar e implementar la Estrategia Institucional de Servicio al Ciudadano 2026, mediante el desarrollo de acciones orientadas al fortalecimiento de los cuatro subcomponentes de la Política de Servicio al Ciudadano: i) diagnóstico y planeación estratégica del servicio, ii) talento humano idóneo y suficiente, iii) oferta institucional de fácil acceso, comprensión y uso para las ciudadanías, y iv) evaluación de la gestión del servicio y medición de la experiencia ciudadana. | F33: Implementar el 80 % de las acciones definidas en la Estrategia Institucional de Servicio al Ciudadano 2026. | G33: Oficina Asesora de Planeación (Servicio al ciudadano) y dependencias responsables de la implementación de las acciones definidas en la Estrategia Institucional de Servicio al Ciudadano 2026. | H33: Tercer trimestre | I33: Se diseñó la Estrategia Institucional de Servicio al Ciudadano de la ETITC, fue presentada ante el Comité Institucional de Gestión y Desempeño el 9 de julio de 2026 y aprobada en dicha sesión. Posteriormente, fue publicada en el portal web institucional para consulta de la ciudadanía. La estrategia contempla 20 acciones distribuidas en cuatro componentes, orientadas a fortalecer el diagnóstico y la planeación del servicio, las competencias del talento humano, el acceso a la oferta institucional y los mecanismos de evaluación de la gestión y medición de la experiencia ciudadana. En cuanto a su implementación, se reportan los siguientes avances por componente: Componente 1. Diagnóstico y planeación estratégica del servicio – 25 % de avance. Este componente comprende tres acciones programadas, de las cuales se registra un avance equivalente a 0,75 acciones. Durante la vigencia se definió el objetivo del ejercicio de caracterización de la ciudadanía y los grupos de valor y se diseñó una encuesta que se encuentra en aplicación desde mayo de 2026. A la fecha, se han diligenciado 542 encuestas, cuya información servirá de insumo para identificar las necesidades y expectativas de los usuarios y orientar la planeación de futuras acciones de mejora. Componente 2. Talento humano idóneo y suficiente – 50 % de avance. De las dos acciones programadas, una se encuentra cumplida. Se desarrollaron capacitaciones relacionadas con el manejo y gestión de la plataforma SIAC y PQRSD, así como servicio al ciudadano, orientación al servicio, lenguaje claro y atención incluyente, con el propósito de fortalecer las competencias de los funcionarios y contratistas que participan en la atención a la ciudadanía. Componente 3. Oferta institucional de fácil acceso, comprensión y uso – 67 % de avance. De las doce acciones programadas, ocho se encuentran cumplidas. Entre los principales resultados se encuentran la actualización de la información de los 22 trámites y un OPA de la entidad; el fortalecimiento del menú web de Atención y Servicios a la Ciudadanía; la actualización del procedimiento de gestión y trámite de PQRSD y de la Carta de Trato Digno; la incorporación de variables de caracterización poblacional en el SIAC y la implementación de mejoras en sus módulos. Adicionalmente, se habilitó un punto interactivo de atención durante la Audiencia de Rendición de Cuentas y se desarrollaron acciones de sensibilización sobre los canales institucionales de atención y denuncia. Componente 4. Evaluación de la gestión del servicio y medición de la experiencia ciudadana – 83 % de avance. De las tres acciones programadas, dos se encuentran cumplidas. Se actualizó la encuesta de evaluación de la experiencia ciudadana y se elaboraron, socializaron y publicaron los informes de gestión de PQRSD y evaluación de la satisfacción correspondientes al primer, segundo y tercer trimestre de 2026, incorporando información sobre la gestión de solicitudes, la oportunidad de las respuestas y la percepción del servicio prestado. De acuerdo con el consolidado de monitoreo, la Estrategia Institucional de Servicio al Ciudadano 2026 presenta un avance general del 61 %, correspondiente a un avance ponderado de 12,25 acciones equivalentes de las 20 programadas. Las acciones pendientes estan programadas para el cuarto trimestre. Evidencias 1. Estrategia Institucional de Servicio al Ciudadano 2026, publicada en el portal web institucional: https://www.etitc.edu.co/archives/estrategiaserviciociudadano26.pdf 2. Acta de la sesión del Comité Institucional de Gestión y Desempeño del 9 de julio de 2026, en la que se presentó y aprobó la estrategia. 3. Matriz de monitoreo a la implementación de la Estrategia Institucional de Servicio al Ciudadano 2026, que contiene las 20 acciones programadas, sus responsables, metas, porcentajes de avance, actividades ejecutadas y evidencias. 4. Soportes de las acciones ejecutadas | J33: 1 | K33: 0.75 | L33: https://itceduco-my.sharepoint.com/:f:/g/personal/mipg_itc_edu_co/IgAlwoCs4DUoQJY3ah0HBzqXAWS2uSaj63UzorL-wllUw2k?e=sWtEdx | M33: en ejecución
D34: 4.2.3 | E34: Consolidar la estrategia de Participación Ciudadana y Rendición de cuentas de la ETITC y publicarla en el botón Participa. | F34: Estrategia definida | G34: Oficina Asesora de Planeación (Servicio al ciudadano) | H34: Cuarto trimestre | M34: Sin iniciar
C35: 4.3 Transparencia activa | D35: 4.3.4 | E35: Verificar cumplimiento de requerimiento de publicación de información mínima obligatoria (link de transparencia) de acuerdo a normatividad vigente y nueva. | F35: Matriz de cumplimiento ITA | G35: Oficina Asesora de Planeación (MIPG) | H35: Durante la vigencia | I35: El reporte de autoevaluación del ITA se realizó del 01 al 31 de julio de 2026, de acuerdo a la Directiva No. 011 del 4 de junio de 2026 de la Procuraduría General de la Nación | J35: 1 | K35: 1 | L35: 4. Iniciativas adicionales | M35: cumplida
C36: 4.4. Deforestación | D36: 4.4.5 | E36: Desarrollar actividades de capacitación y sensibilización en temas de sostenibilidad ambiental, gestión ambiental responsable y conservación de los recursos naturales y los ecosistemas | F36: Soportes de las actividades de capacitación y sensibilización | G36: Gestión ambiental | H36: Durante la vigencia | I36: Durante el tercer trimestre se evidencia un avance del 100 %, correspondiente a la ejecución de tres (3) jornadas de capacitación adicionales en las temáticas de Biodiversidad en el Distrito Capital, Cultura y estrategias para el Consumo Sostenible del Agua y Huella Ecológica. Estas jornadas se desarrollaron en el marco de los ejes temáticos de consumo sostenible y responsable, protección del recurso hídrico y conservación de la biodiversidad. | J36: 1 | K36: 0.75 | L36: 4..4 Deforestacion | M36: en ejecución
I37: Total de avance | J37: =AVERAGE(J6:J36) -> 0.97826087 | K37: =AVERAGE(K6:K36) -> 0.85869565
B39: CLASIF. DE CONFIDENCIALIDAD | F39: IPB | G39: CLASIF. DE INTEGRIDAD | H39: A | I39: CLASIF. DE DISPONIBILIDAD | L39: 2 | M39: 2

Sheet Consolidado seguimiento PTEP
B2: Componente | C2: Avance trimestre I | D2: Avance trimestre II | E2: Avance trimestre III | F2: Avance trimestre IV | G2: Avance vigencia
B3: 1. ADMINISTRACIÓN DE RIESGOS | C3: =AVERAGE('Seguimiento PTEP Trim I-2026'!J6:J15) -> 1 | D3: =AVERAGE('Seguimiento PTEP Trim II-2026'!J6:J15) -> 0.56 | E3: =AVERAGE('Seguimiento PTEP Trim III'!J6:J14) -> 0.91666667 | G3: =AVERAGE('Seguimiento PTEP Trim III'!K6:K14) -> 0.83333333
B4: 2. REDES Y ARTICULACIÓN | C4: =AVERAGE('Seguimiento PTEP Trim I-2026'!J16:J18) -> 1 | D4: =AVERAGE('Seguimiento PTEP Trim II-2026'!J16:J18) -> 1 | E4: =AVERAGE('Seguimiento PTEP Trim III'!J15:J17) -> 1 | G4: =AVERAGE('Seguimiento PTEP Trim III'!K15:K17) -> 0.75
B5: 3. MODELO DE ESTADO ABIERTO | C5: =AVERAGE('Seguimiento PTEP Trim I-2026'!J19:J30) -> 0.8 | D5: =AVERAGE('Seguimiento PTEP Trim II-2026'!J19:J30) -> 0.90909091 | E5: =AVERAGE('Seguimiento PTEP Trim III'!J18:J29) -> 1 | G5: =AVERAGE('Seguimiento PTEP Trim III'!K18:K29) -> 0.89583333
B6: 4. INICIATIVAS ADICIONALES | C6: =AVERAGE('Seguimiento PTEP Trim I-2026'!J31:J36) -> 1 | D6: =AVERAGE('Seguimiento PTEP Trim II-2026'!J31:J36) -> 1 | E6: =AVERAGE('Seguimiento PTEP Trim III'!J30:J36) -> 1 | G6: =AVERAGE('Seguimiento PTEP Trim III'!K30:K36) -> 0.83333333
B7: Promedio avance PTEP | C7: ='Seguimiento PTEP Trim I-2026'!J37 -> 0.85714286 | D7: ='Seguimiento PTEP Trim II-2026'!J37 -> 0.83157895 | E7: ='Seguimiento PTEP Trim III'!J37 -> 0.97826087 | G7: ='Seguimiento PTEP Trim III'!K37 -> 0.85869565
B9: Nota: El Promedio de avance es calculado sobre el resultado por el número de actividades no sobre componentes

Sheet Seguimiento PTEP Trim II-2026
B2: PROGRAMA DE TRANSPARENCIA Y ÉTICA DE LO PÚBLICA 2026
B5: Estructura PTEP | D5: Actividades | F5: Meta o producto | G5: Responsable | H5: Fecha | I5: Avance | J5: % de avance trimestre | K5: % de avance vigencia | L5: Link de evidencia | M5: Estado
B6: 1. Administración de riesgos | C6: 1.1. Gestión de riesgos para la integridad pública, y 1.2 Gestión de riesgos de LA/FT/FP | D6: 1.1.1 | E6: Actualizar la Politica de Administración de Riesgos, integrando riesgos de Integridad: conflictos de intereses, soborno, corrupción y fraude. | F6: Politica de Administración de Riesgos | G6: Oficina Asesora de Planeación/ Calidad - MIPG | H6: Cuarto trimestre | M6: Sin iniciar
D7: 1.1.2 | E7: Presentar ante el Comité Institucional de Gestión y Desempeño la actualización de la politica de Administración de Riesgos. | F7: Acta del CIGD | G7: Oficina Asesora de Planeación/ Calidad - MIPG | H7: Cuarto trimestre | M7: Sin iniciar
D8: 1.1.3 | E8: Socializar la Politica de Administración de Riesgos de integridad (conflictos de intereses, soborno, corrupción y fraude). | F8: Listados de Asistencia/ Piezas Graficas de Comunicación | G8: Oficina Asesora de Planeación/ Calidad - MIPG | H8: Cuarto trimestre | M8: Sin iniciar
D9: 1.1.4 | E9: Actualizar el Procedimiento de Administración de Riesgos en cuanto a la materialización de los riesgos y la metodología de riesgos de integridad (conflictos de intereses, soborno, corrupción y fraude). | F9: Procedimiento de Administración de Riesgos Actualizado | G9: Oficina Asesora de Planeación/ Calidad - MIPG | H9: Cuarto trimestre | M9: Sin iniciar
D10: 1.1.5 | E10: Realizar el monitoreo y seguimiento al mapa de riesgos | F10: Mapa de riesgos con el monitoreo y seguimiento realizado | G10: Oficina Asesora de Planeación/ Calidad - MIPG | H10: Cuatrimestralmente | I10: Teniendo en cuenta que se está realizando la actualización de la metodología de riesgos y actualización de las matrices 2026 en el segundo trimestre, se realizará monitoreo de riesgos del primer y segundo cuatrimestre en el mes de septiembre con corte a agosto 2026. | J10: 0 | K10: 0 | M10: Sin iniciar
C11: 1.3. Canales de denuncia | D11: 1.3.1 | E11: Generar un documento para la presentación y trámite de denuncias por posibles actos de corrupción, su tratamiento y discrecionalidad. | F11: (1) Documento realizado | G11: Gestión de Servicio al Ciudadano (OAP) - Oficina Jurídica - Control Interno Disciplinario | H11: Segundo trimestre | I11: Se elaboró el proyecto de la "Guía para la presentación y trámite de denuncias por posibles actos de corrupción”, el cual fue remitido a la Oficina Jurídica y a Control Interno Disciplinario para revisión técnica, jurídica y validación de su contenido. Una vez se incorporen las observaciones que se deriven de dicha revisión, se continuará con el proceso de aprobación y publicación del documento | J11: 0.8 | K11: 0.8 | L11: https://itceduco-my.sharepoint.com/:f:/g/personal/gestionculturaorganizacional_itc_edu_co/IgDcZcBrwtB2Q6mechDogf03AbB6MAzVy_21MQOQzb8Ch0Q?e=SDoYjd | M11: en ejecución
D12: 1.3.2 | E12: Implementar ejercicios de socialización y sensibilización orientados a fortalecer la adecuada radicación de PQRSD y el uso correcto de los canales institucionales para la denuncia de posibles actos de corrupción. | F12: (1) ejercicio de socialización | G12: Gestión de Servicio al Ciudadano (OAP) - Oficina Jurídica | H12: Tercer trimestre | M12: Sin iniciar
D13: 1.3.3 | E13: Publicar informes trimestrales de PQRSD y de solicitudes de información | F13: Informes Trimestrales de PQRS | G13: Gestión de Servicio al Ciudadano (OAP) | H13: Abril Julio Octubre Enero 2027 | I13: Se elaboró y publicó el Informe de PQRSD correspondiente al primer trimestre de 2026 en el portal web institucional, en cumplimiento de las acciones de transparencia y acceso a la información. Los informes correspondientes a los siguientes trimestres se elaborarán y publicarán de acuerdo con el cronograma institucional. | J13: 1 | K13: 0.25 | L13: https://www.etitc.edu.co/es/page/atencionciudadano&informes | M13: en ejecución
D14: 1.3.4 | E14: Medir la percepción de los ciudadanos respecto a la calidad y acceso de la oferta institucional y la atención prestada y generar informe trimestral. | F14: Informe de evaluación del servicio | G14: Oficina Asesora de Planeación (Calidad) | H14: Abril Julio Octubre Enero 2027 | I14: Se realiza el reporte del informe del Segundo Trimestre de los Resultados de la Evaluación de los Servicios prestado por la ETIC. el Informe esta alineado al cumplimiento de las actividades establecidas en el Plan Sectorial – Modelo de Voz Ciudadana ETITC. | J14: 1 | K14: 0.5 | L14: https://itceduco-my.sharepoint.com/:f:/g/personal/calidad_itc_edu_co/IgD7ywXjaApnTbXTGy4gLkjIAWBEi0F8z9aAtsZyUfXmJVE?e=Pguiwb | M14: en ejecución
C15: 1.4. Debida diligencia (conocimiento de la contraparte) | D15: 1.4.1 | E15: Revisar los procedimientos internos en los que debe aplicarse el lineamiento de debida diligencia (conocimiento de las contrapartes), con el fin de realizar los ajustes que puedan requerirse, en el marco de la ejeucción de procesos contractuales de la ETITC. | F15: Procedimiento formulado o modificado | G15: Oficina de Contratación | H15: Segundo trimestre | I15: Sin avance | J15: 0 | K15: 0 | M15: Sin iniciar
B16: 2. Redes y articulación | C16: 2.1. Redes internas | D16: 2.2.1 | E16: Integrar el PTEP en un instrumento (Sharepoint) que sirva como red de seguimiento permanente a los compromisos adquiridos en su formulación. | F16: Instrumento en Línea | G16: Oficina Asesora de Planeación (MIPG) | H16: Trimestralmente | I16: Se cuenta con la Matriz de seguimiento PTEP 2026, a través de la cual se realiza seguimiento a las actividades planificadas para la vigencia 2026. | J16: 1 | K16: 0.5 | L16: https://www.etitc.edu.co/es/page/atencionciudadano&paac | M16: en ejecución
D17: 2.2.2 | E17: Llevar los avances del PTEP ante el CIGD como instancia de seguimiento en la que convergen los responsables de su materialización. | F17: Acta del CIGD | G17: Oficina Asesora de Planeación (MIPG) | H17: Trimestralmente | I17: El seguimiento del primer trimestre de 2026, se presentó al CIGD del mes de abril de 2026. Los ajustes solicitados al PTEP para e segundo trimestre se presentaron para aprobación del CIGD el 09 de julio de 2026. Se realizó seguimiento a la ejecución del PTEP con corte a 30 de junio de 2026 para su presentación al CIGD del mes de agosto de 2026. | J17: 1 | K17: 0.5 | L17: Actas CIGD | M17: en ejecución
C18: 2.2. Redes externas | D18: 2.1.1 | E18: Elaborar un mapa de redes y articulación, donde se enliste el rol, responsabilidades, representante o delegado, tareas y planes de trabajo de la ETITC en las redes externas (Transparencia y Ética Púbica) | F18: 1. Documento | G18: Oficina Asesora de Planeación (MIPG), Talento humano | H18: tercer trimestre | M18: Sin iniciar
B19: 3. Modelo de Estado Abierto | C19: 3.1. Acceso a la información pública y transparencia | D19: 3.1.1 | E19: Publicar de manera periódica el comportamiento de los indicadores del Plan de Desarrollo Institucional y el Plan de Acción Institucional en el portal de datos y estadísticas de la ETITC. | F19: Seguimiento Publicado | G19: Oficina Asesora de Planeación (Plan de acción) | H19: Trimestralmente | I19: En el primer y segundo trimestre de 2026 no se registra publicación de los indicadores de seguimiento del Plan de Desarrollo Institucional PDI 2025-2032 y del Plan de Acción Institucional - PAI, en el portal web de la ETITC. La Oficina Asesora de Planeación - OAP adelanta acciones de gestión interna orientadas a retomar la publicación del primer semestre ( trimestre I - II) y la publicación periódica de esta información a partir del tercer trimestre de la vigencia. | J19: 0 | K19: 0 | M19: Sin iniciar
D20: 3.1.2 | E20: Publicar informes de seguimiento a los proyectos de inversión institucionales | F20: Informes de seguimiento publicados en la página web institucional | G20: Oficina Asesora de Planeación (Proyectos) | H20: Trimestralmente | I20: Se realizó el seguimiento financiero de los tres proyectos de inversión, con base en la información del SIIF Nación con corte al 30 de junio de 2026, correspondiente al segundo trimestre de la vigencia 2026. | J20: 1 | K20: 0.5 | L20: https://www.etitc.edu.co/archives/seguimientopijun2026.xlsx | M20: en ejecución
D21: 3.1.3 | E21: Publicar la ejecución del presupuesto de la institución | F21: Informes de ejecución publicados en la página webinstitucional | G21: Área de presupuesto | H21: Mensualmente | I21: Se encuentra publicadas las ejecuciones presupuestales con corte a junio de 2026 | J21: 1 | K21: 0.5 | L21: https://www.etitc.edu.co/es/page/leytransparencia https://www.etitc.edu.co/archives/ejecucionjun26.pdf | M21: en ejecución
C22: 3.2. Integridad pública y cultura de la legalidad | D22: 3.2.1 | E22: Mantener actualizada la versión del código de integridad, conflicto de interes y realizar los ajustes en caso de cambios en las directrices por parte de la Función Pública. | F22: Documento actualizado | G22: Oficina de Talento Humano | H22: Durante la vigencia | I22: Se realizó actualización de la guía Identificación, declaración, manejo y gestión del conflicto de interés en la ETITC. La publicación en elportal web está en trámite. El Código de Integridad está en proceso de actualización y publicación en el portal web institucional. | J22: 1 | K22: 0.5 | L22: https://itceduco-my.sharepoint.com/:b:/g/personal/apoyotalentohumano_itc_edu_co/IQCcVulQzPRFTpWs8R1tWlrZAUY6nbo3ywnJvE-v2OcP9do?e=fXWyqc | M22: en ejecución
D23: 3.2.2 | E23: Realizar el autodiagnóstico de integridad, como estrategia de mejormiento continuo | F23: Autodiagnótico realizado | G23: Oficina de Talento Humano | H23: Primer trimestre | I23: Se realizó a principio de la vigencia como línea base para estrucutrar el programa de Integridad | J23: 1 | K23: 1 | L23: https://itceduco-my.sharepoint.com/:x:/g/personal/gestionculturaorganizacional_itc_edu_co/IQBg392Ogl9mRKYcbn3-hCJ-ARVibjAHpUHzzp0h15QUJqM?e=SLxlzB | M23: cumplida
D24: 3.2.3 | E24: Definir un plan de acción del código de integridad y conflicto de interés de la ETITC (LEY 2016 DE 2020) | F24: Un plan de acción definido | G24: Oficina de Talento Humano | H24: Durante la vigencia | I24: Como parte del diseño del programa de Integridad 360° , se definió el plan de acción anual Se adjunta el informe de ejecución. | J24: 1 | K24: 1 | L24: https://itceduco-my.sharepoint.com/:b:/g/personal/apoyotalentohumano_itc_edu_co/IQA8dQmrGzdQQqVXv3S24bxGAc2yA5vkomUmEqV48RvhmFo?e=pjdBvr | M24: cumplida
D25: 3.2.4 | E25: Integrar en las jornadas de inducción el código de integridad, resaltando su importancia para el fortalecimiento de una cultura basada en el adecuado comportamiento y el buen relacionamiento. | F25: Soportes de la inducción | G25: Oficina de Talento Humano | H25: Durante la vigencia | I25: En el proceso de inducción se incluye socializar el código de integridad, el cual también está contenido en el módulo de talento humano del curso virtual que realizan todos los servidores nuevos al ingresar a la ETITC | J25: 1 | K25: 1 | L25: https://itceduco-my.sharepoint.com/:i:/g/personal/gestionculturaorganizacional_itc_edu_co/IQAGCW9I1egMQ5kqmclybqXUAW69gy8manlLLGxYJ5DRp90?e=tdU8o5 | M25: cumplida
D26: 3.2.5 | E26: Realizar campañas de difusión al interior de la ETITC sobre el PTEP y su respectivo Plan de Ejecución y Seguimiento. | F26: 2 Campañas realizadas | G26: Oficina Asesora de Planeación (MIPG) | H26: Durante la vigencia | M26: Sin iniciar
C27: 3.3. Diálogo y corresponsabilidad | D27: 3.3.1 | E27: Consolidar y publicar el informe de Gestión Anual 2025 | F27: Informe consolidado y publicado | G27: Oficina Asesora de Planeación (Plan de acción) | H27: Primer trimestre | I27: Se realizó la consolidación y publicación del Informe de Gestión Anual 2025 de la ETITC. | J27: 1 | K27: 1 | L27: https://www.etitc.edu.co/es/page/rendicion-cuentas https://www.etitc.edu.co/archives/gestion25.pdf | M27: cumplida
D28: 3.3.2 | E28: Definir y divulgar adecuadamente los mecanismos de participación de los grupos de valor en la rendición de cuentas | F28: Canales definidos | G28: Oficina Asesora de Planeación (Servicio al ciudadano) / Gestión de Comunicaciones | H28: Segundo trimestre | I28: Se definieron y divulgaron los mecanismos de participación de los grupos de valor para la Audiencia Pública de Rendición de Cuentas. Para ello, se activó el correo institucional rendiciondecuentas@itc.edu.co, se implementó el formulario de inscripción y recepción de preguntas en Microsoft Forms y se diseñaron piezas comunicativas con código QR y el botón "Inscríbete y Participa", que direccionaban al formulario. Estas fueron difundidas mediante correos masivos, pantallas institucionales y redes sociales de la ETITC. Asimismo, se elaboraron videos tipo reel con un llamado a la participación y un modelo de invitación personalizada que fue enviado por los directivos a sus grupos de valor. Finalmente, se aplicó una encuesta de satisfacción como mecanismo de retroalimentación para evaluar el ejercicio de rendición de cuentas. | J28: 1 | K28: 1 | L28: Videos tipo reel: https://www.facebook.com/reel/1396192571798699 https://www.facebook.com/photo/?fbid=1389898153176175&set=a.642809741218357 https://www.facebook.com/reel/1485186476318548 EVIDENCIAS: https://itceduco-my.sharepoint.com/:f:/g/personal/gestionculturaorganizacional_itc_edu_co/IgAwIeJrT-GGTashk-b93YQwATVsBQpoY5fsVJ-N8qphXrU?e=btsCRw | M28: cumplida
D29: 3.3.3 | E29: Desarrollar la Audiencia pública de Rendición de Cuentas utilizando los canales de comunicación disponibles por la ETITC | F29: Un Informe | G29: Oficina Asesora de Planeación (Servicio al ciudadano) / Gestión de Comunicaciones | H29: Segundo trimestre | I29: Se desarrolló la Audiencia Pública de Rendición de Cuentas de la vigencia 2025 el 10 de abril de 2026, utilizando los canales de comunicación institucionales de la ETITC. La jornada contó con 162 asistentes presenciales en la sesión de la tarde y fue transmitida a través de Facebook Live, alcanzando entre 2.800 y 2.899 visualizaciones y 43 interacciones, así como por YouTube, con 232 a 239 visualizaciones, ampliando el alcance y la participación de los grupos de valor. | J29: 1 | K29: 1 | L29: Registros: https://www.youtube.com/watch?v=0_QmhZFP0M0&t=153s https://www.facebook.com/reel/1528979491899713 https://etitc.edu.co/es/page/rendicion-cuentas | M29: cumplida
D30: 3.3.4 | E30: Realizar el informe de la Audiencia Pública de Rendición de Cuentas de la Vigencia, con las respectivas etapas ejecutadas y respuestas a las inquietudes de los participantes. | F30: Un Informe | G30: Oficina Asesora de Planeación (Servicio al ciudadano) | H30: Segundo trimestre | I30: Se elaboró el Informe de la Audiencia Pública de Rendición de Cuentas de la vigencia 2025, el cual consolida las etapas de preparación, desarrollo y seguimiento del ejercicio, los resultados de la jornada, la participación de los grupos de valor, las preguntas recibidas antes y durante la audiencia, las respuestas brindadas por la Entidad y los resultados de la encuesta de satisfacción, conforme a los lineamientos institucionales. | J30: 1 | K30: 1 | L30: https://www.etitc.edu.co/archives/restrategiarendicionc25.pdf | M30: cumplida
B31: 4. Inciativas Adicionales | C31: 4.1. Racionaliación de Trámites | D31: 4.1.1 | E31: Definir y gestionar la estrategia de racionalización de trámites de la vigencia 2026 | F31: Estrategia definida y gestionada | G31: Oficina Asesora de Planeación (Servicio al ciudadano) | H31: Cuarto trimestre | M31: Sin iniciar
D32: 4.1.2 | E32: Verificar la implementación de la Meta de Racionalización de la Vigencia 2026 | F32: Informes de seguimiento publicados en la página web institucional | G32: Oficina Asesora de Planeación (Servicio al ciudadano) | H32: Cuarto trimestre | M32: Sin iniciar
C33: 4.2. Participación Ciudadana | D33: 4.2.1 | E33: Actualizar la caracterización de los grupos de valor de la ETITC | F33: Informe de caracterización | G33: Oficina Asesora de Planeación (Servicio al ciudadano) | H33: Cuarto trimestre | M33: Sin iniciar
D34: 4.2.2 | E34: Consolidar la estrategia de Participación Ciudadana y Rendición de cuentas de la ETITC y publicarla en el botón Participa. | F34: Estrategia definida | G34: Oficina Asesora de Planeación (Servicio al ciudadano) | H34: Cuarto trimestre | M34: Sin iniciar
C35: 4.3 Transparencia activa | D35: 4.2.4 | E35: Verificar cumplimiento de requerimiento de publicación de información mínima obligatoria (link de transparencia) de acuerdo a normatividad vigente y nueva. | F35: Matriz de cumplimiento ITA | G35: Oficina Asesora de Planeación (MIPG) | H35: Durante la vigencia | I35: El reporte de autoevaluación del ITA se realizará del 01 al 31 de julio de 2026, de acuerdo a la Directiva No. 011 del 4 de junio de 2026 de la Procuraduría General de la Nación | M35: Sin iniciar
C36: 4.4. Deforestación | D36: 4.2.5 | E36: Realizar capacitaciones y sensibilizaciones sobre ahorro, consumo de recursos públicos (Agua, Luz, Residuos ordinarios). | F36: Soportes de 4 capacitaciones | G36: Gestión ambiental | H36: Durante la vigencia | I36: Se reporta un avance del 100 %, correspondiente a la realización de cuatro (4) capacitaciones durante el segundo trimestre de la vigencia, en las siguientes temáticas: manejo de residuos sólidos y uso eficiente del agua, Estructura Ecológica Principal del Distrito Capital, economía circular y Objetivos de Desarrollo Sostenible. | J36: 1 | K36: 1 | L36: https://itceduco-my.sharepoint.com/:f:/g/personal/gestionculturaorganizacional_itc_edu_co/IgC-V41eRNl_Q7ZukklHB2UPAWoI8sIVFc0gZSxMtjSdJXY?e=BOH1Sk | M36: cumplida
I37: Total de avance | J37: =AVERAGE(J6:J36) -> 0.83157895 | K37: =AVERAGE(K6:K36) -> 0.63421053
B39: CLASIF. DE CONFIDENCIALIDAD | F39: IPB | G39: CLASIF. DE INTEGRIDAD | H39: A | I39: CLASIF. DE DISPONIBILIDAD | L39: 2 | M39: 2

Sheet Seguimiento PTEP Trim I-2026
B2: PROGRAMA DE TRANSPARENCIA Y ÉTICA DE LO PÚBLICA 2026
B5: Estructura PTEP | D5: Actividades | F5: Meta o producto | G5: Responsable | H5: Fecha | I5: Avance | J5: % de avance trimestre | K5: % de avance vigencia | L5: Link de evidencia | M5: Estado
B6: 1. Administración de riesgos | C6: 1.1. Gestión de riesgos para la integridad pública, y 1.2 Gestión de riesgos de LA/FT/FP | D6: 1.1.1 | E6: Actualizar la Politica de Administración de Riesgos, integrando riesgos de Integridad: conflictos de intereses, soborno, corrupción y fraude. | F6: Politica de Administración de Riesgos | G6: Oficina Asesora de Planeación/ Calidad - MIPG | H6: Cuarto trimestre | M6: Sin iniciar
D7: 1.1.2 | E7: Presentar ante el Comité Institucional de Gestión y Desempeño la actualización de la politica de Administración de Riesgos. | F7: Acta del CIGD | G7: Oficina Asesora de Planeación/ Calidad - MIPG | H7: Cuarto trimestre | M7: Sin iniciar
D8: 1.1.3 | E8: Socializar la Politica de Administración de Riesgos de integridad (conflictos de intereses, soborno, corrupción y fraude). | F8: Listados de Asistencia/ Piezas Graficas de Comunicación | G8: Oficina Asesora de Planeación/ Calidad - MIPG | H8: Cuarto trimestre | M8: Sin iniciar
D9: 1.1.4 | E9: Actualizar el Procedimiento de Administración de Riesgos en cuanto a la materialización de los riesgos y la metodología de riesgos de integridad (conflictos de intereses, soborno, corrupción y fraude). | F9: Procedimiento de Administración de Riesgos Actualizado | G9: Oficina Asesora de Planeación/ Calidad - MIPG | H9: Cuarto trimestre | M9: Sin iniciar
D10: 1.1.5 | E10: Realizar el monitoreo y seguimiento al mapa de riesgos | F10: Mapa de riesgos con el monitoreo y seguimiento realizado | G10: Oficina Asesora de Planeación/ Calidad - MIPG | H10: Cuatrimestralmente | M10: Sin iniciar
C11: 1.3. Canales de denuncia | D11: 1.3.1 | E11: Generar un documento para la presentación y trámite de denuncias por posibles actos de corrupción, su tratamiento y discrecionalidad. | F11: (1) Documento realizado | G11: Gestión de Servicio al Ciudadano (OAP) - Oficina Jurídica - Oficina de Control Interno - Control Interno Disciplinario | H11: Segundo trimestre | M11: Sin iniciar
D12: 1.3.2 | E12: Implementar ejercicios de socialización y sensibilización orientados a fortalecer la adecuada radicación de PQRSD y el uso correcto de los canales institucionales para la denuncia de posibles actos de corrupción. | F12: (1) ejercicio de socialización | G12: Gestión de Servicio al Ciudadano (OAP) - Oficina Jurídica | H12: Tercer trimestre | M12: Sin iniciar
D13: 1.3.3 | E13: Publicar informes trimestrales de PQRSD y de solicitudes de información | F13: Informes Trimestrales de PQRS | G13: Gestión de Servicio al Ciudadano (OAP) | H13: Abril Julio Octubre Enero 2027 | M13: Sin iniciar
D14: 1.3.4 | E14: Medir la percepción de los ciudadanos respecto a la calidad y acceso de la oferta institucional y la atención prestada y generar informe trimestral. | F14: Informe de evaluación del servicio | G14: Oficina Asesora de Planeación (Calidad) | H14: Abril Julio Octubre Enero 2027 | I14: Se realizo el reporte del Informe de Evaluacion de la prestación del servicio correspondiente al primer trimestre de la vigencia 2026. | J14: 1 | K14: 0.25 | L14: https://itceduco-my.sharepoint.com/personal/gestionculturaorganizacional_itc_edu_co/_layouts/15/onedrive.aspx?id=%2Fpersonal%2Fgestionculturaorganizacional%5Fitc%5Fedu%5Fco%2FDocuments%2FPTEP%2FPTEP%202026%2FEvidencias%2F1%2E%20ADMINISTRACI%C3%93N%20DE%20RIESGOS%2F1%2E3%2E4&viewid=d65cb9c2%2Dc153%2D41ba%2D8808%2Df4a9f5b01b90&ct=1776898297032&or=OWA%2DNT%2DMail | M14: en ejecución
C15: 1.4. Debida diligencia (conocimiento de la contraparte) | D15: 1.4.1 | E15: Revisar los procedimientos internos en los que debe aplicarse el lineamiento de debida diligencia (conocimiento de las contrapartes), con el fin de realizar los ajustes que puedan requerirse, en el marco de la ejeucción de procesos contractuales de la ETITC. | F15: Procedimiento formulado o modificado | G15: Oficina Jurídica - Oficina de Contratación | H15: Segundo trimestre | M15: Sin iniciar
B16: 2. Redes y articulación | C16: 2.1. Redes internas | D16: 2.2.1 | E16: Integrar el PTEP en un instrumento (Sharepoint) que sirva como red de seguimiento permanente a los compromisos adquiridos en su formulación. | F16: Instrumento en Línea | G16: Oficina Asesora de Planeación (MIPG) | H16: Trimestralmente | I16: Se cuenta con la Matriz de seguimiento PTEP 2026, a través de la cual se realiza seguimiento a las actividades planificadas para la vigencia 2026. | J16: 1 | K16: 0.25 | M16: en ejecución
D17: 2.2.2 | E17: Llevar los avances del PTEP ante el CIGD como instancia de seguimiento en la que convergen los responsables de su materialización. | F17: Acta del CIGD | G17: Oficina Asesora de Planeación (MIPG) | H17: Trimestralmente | I17: Se realizó seguimiento a la ejecución del PTEP con corte a 31.12.2026 y se presentó al Comité Institucional de Gestión y Desempeño del 06.03.2026. El seguimiento del primer trimestre de 2026, se presentará al CIGD del mes de abril. | J17: 1 | K17: 0.25 | M17: en ejecución
C18: 2.2. Redes externas | D18: 2.1.1 | E18: Elaborar un mapa de redes y articulación, donde se enliste el rol, responsabilidades, representante o delegado, tareas y planes de trabajo de la ETITC en las redes externas (Transparencia y Ética Púbica) | F18: 1. Documento | G18: Oficina Asesora de Planeación (MIPG), Talento humano, Oficina de Control interno | H18: tercer trimestre | M18: Sin iniciar
B19: 3. Modelo de Estado Abierto | C19: 3.1. Acceso a la información pública y transparencia | D19: 3.1.1 | E19: Publicar de manera periódica el comportamiento de los indicadores del Plan de Desarrollo Institucional y el Plan de Acción Institucional en el portal de datos y estadísticas de la ETITC. | F19: Seguimiento Publicado | G19: Oficina Asesora de Planeación (Plan de acción) | H19: Trimestralmente | I19: No se reporta avance | J19: 0 | K19: 0 | M19: Sin iniciar
D20: 3.1.2 | E20: Publicar informes de seguimiento a los proyectos de inversión institucionales | F20: Informes de seguimiento publicados en la página web institucional | G20: Oficina Asesora de Planeación (Proyectos) | H20: Trimestralmente | I20: Se realizó publicación del seguimiento realizado a los proyectos de inversión con corte a 31 de marzo | J20: 1 | K20: 0.25 | L20: https://itceduco-my.sharepoint.com/:f:/g/personal/gestionculturaorganizacional_itc_edu_co/IgC7tXyWqjFgS5PFaa4IqpzOAZIVhI7V0-cYoz5UtYog_DA?e=vaKa6E | M20: en ejecución
D21: 3.1.3 | E21: Publicar la ejecución del presupuesto de la institución | F21: Informes de ejecución publicados en la página webinstitucional | G21: Área de presupuesto | H21: Mensualmente | I21: Se encuentra publicadas las ejecuciones presupuestales con corte a marzo | J21: 1 | K21: 0.25 | L21: https://www.etitc.edu.co/es/page/leytransparencia | M21: en ejecución
C22: 3.2. Integridad pública y cultura de la legalidad | D22: 3.2.1 | E22: Mantener actualizada la versión del código de integridad, conflicto de interes y realizar los ajustes en caso de cambios en las directrices por parte de la Función Pública. | F22: Documento actualizado | G22: Oficina de Talento Humano | H22: Durante la vigencia | I22: Los dos documentos se encuentran publicados en el portal web | J22: 1 | K22: 0.25 | L22: conflictointereses.pdf https://itceduco-my.sharepoint.com/:b:/g/personal/gestionculturaorganizacional_itc_edu_co/IQCI6jcfTJOxTa1N7jImwRtPAeCr6dBtmnvSM0J3B8wBdtU?e=xtZoLW | M22: en ejecución
D23: 3.2.2 | E23: Realizar el autodiagnóstico de integridad, como estrategia de mejormiento continuo | F23: Autodiagnótico realizado | G23: Oficina de Talento Humano | H23: Primer trimestre | I23: Se realizó a pricipio de la vigencia como línea base para estrucutrar el programa de Integridad | J23: 1 | K23: 1 | L23: https://itceduco-my.sharepoint.com/:x:/g/personal/gestionculturaorganizacional_itc_edu_co/IQBg392Ogl9mRKYcbn3-hCJ-ARVibjAHpUHzzp0h15QUJqM?e=SLxlzB | M23: cumplida
D24: 3.2.3 | E24: Definir un plan de acción del código de integridad y conflicto de interés de la ETITC (LEY 2016 DE 2020) | F24: Un plan de acción definido | G24: Oficina de Talento Humano | H24: Durante la vigencia | I24: Como parte del diseño del programa de Integridad 360° , se definió el plan de acción anual | J24: 1 | K24: 1 | L24: https://itceduco-my.sharepoint.com/:b:/g/personal/gestionculturaorganizacional_itc_edu_co/IQBrfQ4rIBHxQ4qFR_5v0gEbAQiGusY2XLKmnRuH2CD33a8?e=3D6YC7 | M24: cumplida
D25: 3.2.4 | E25: Integrar en las jornadas de inducción el código de integridad, resaltando su importancia para el fortalecimiento de una cultura basada en el adecuado comportamiento y el buen relacionamiento. | F25: Soportes de la inducción | G25: Oficina de Talento Humano | H25: Durante la vigencia | I25: En el proceso de inducción se incluye socializar el código de integridad, el cual también está contenido en el módulo de talento humano del curso virtual que realizan todos los servidores nuevos al ingresar a la ETITC | J25: 1 | K25: 1 | L25: https://itceduco-my.sharepoint.com/:i:/g/personal/gestionculturaorganizacional_itc_edu_co/IQAGCW9I1egMQ5kqmclybqXUAW69gy8manlLLGxYJ5DRp90?e=tdU8o5 | M25: cumplida
D26: 3.2.5 | E26: Realizar campañas de difusión al interior de la ETITC sobre el PTEP y su respectivo Plan de Ejecución y Seguimiento. | F26: 2 Campañas realizadas | G26: Oficina Asesora de Planeación (MIPG) | H26: Durante la vigencia | M26: Sin iniciar
C27: 3.3. Diálogo y corresponsabilidad | D27: 3.3.1 | E27: Consolidar y publicar el informe de Gestión Anual 2025 | F27: Informe consolidado y publicado | G27: Oficina Asesora de Planeación (Plan de acción) | H27: Primer trimestre | I27: No se reporta avance | J27: 0 | K27: 0 | M27: Sin iniciar
D28: 3.3.2 | E28: Definir y divulgar adecuadamente los mecanismos de participación de los grupos de valor en la rendición de cuentas | F28: Canales definidos | G28: Oficina Asesora de Planeación (Servicio al ciudadano) / Gestión de Comunicaciones | H28: Segundo trimestre | I28: Se desarrolló el formulario de preinscripción Activación del Correo institucional redinciondecuentas@itc.edu.co Diseño pieza gráfica con botón “Inscríbete y Participa” Modelo para las invitaciones personalizadas en formato Word con el botón “Inscríbete y Participa” Desarrollo de videos reels cortos, sobre la importancia de la jornada y avances de la gestión 2025, con llamado a la acción para participar. | J28: 1 | K28: 0.5 | L28: https://www.facebook.com/reel/1396192571798699 https://www.facebook.com/photo/?fbid=1389898153176175&set=a.642809741218357 https://www.facebook.com/reel/1485186476318548 https://www.facebook.com/reel/804335072284689 https://www.facebook.com/etitc https://www.facebook.com/reel/1671774900839295 | M28: en ejecución
D29: 3.3.3 | E29: Desarrollar la Audiencia pública de Rendición de Cuentas utilizando los canales de comunicación disponibles por la ETITC | F29: Un Informe | G29: Oficina Asesora de Planeación (Servicio al ciudadano) / Gestión de Comunicaciones | H29: Segundo trimestre | I29: Se emitió en vivo la audiencia pública por Facebook Live con una visualización de 2.800 reproducciones, y 43 interacciones (35 like, 5 comentarios y 3 compartidos.) En la plataforma de Youtube con 232 visualizaciones y 7 interacciones Repositorio en el portal web de la grabación de la jornada e informe escrito para consulta. | J29: 1 | K29: 0.5 | L29: INFORME: https://itceduco-my.sharepoint.com/:f:/g/personal/gestionculturaorganizacional_itc_edu_co/IgAg9TXtJZABT5emjsU7Z6ciAesRKTDGmszwkeWKCU-TOfY?e=ZhnH07 Registros: https://www.youtube.com/watch?v=0_QmhZFP0M0&t=153s https://etitc.edu.co/es/page/rendicion-cuentas https://www.facebook.com/reel/1528979491899713 | M29: en ejecución
D30: 3.3.4 | E30: Realizar el informe de la Audiencia Pública de Rendición de Cuentas de la Vigencia, con las respectivas etapas ejecutadas y respuestas a las inquietudes de los participantes. | F30: Un Informe | G30: Oficina Asesora de Planeación (Servicio al ciudadano) | H30: Segundo trimestre | M30: Sin iniciar
